Package: bnem Version: 1.15.0 Command: /home/biocbuild/bbs-3.21-bioc/R/bin/R CMD build --keep-empty-dirs --no-resave-data bnem StartedAt: 2025-02-03 16:35:10 -0500 (Mon, 03 Feb 2025) EndedAt: 2025-02-03 16:36:14 -0500 (Mon, 03 Feb 2025) EllapsedTime: 64.0 seconds RetCode: 0 Status: OK PackageFile: bnem_1.15.0.tar.gz PackageFileSize: 1.869 MiB