Package: bnem Version: 1.15.0 Command: E:\biocbuild\bbs-3.21-bioc\R\bin\R.exe CMD check --no-multiarch --install=check:bnem.install-out.txt --library=E:\biocbuild\bbs-3.21-bioc\R\library --no-vignettes --timings bnem_1.15.0.tar.gz StartedAt: 2025-02-09 23:11:06 -0500 (Sun, 09 Feb 2025) EndedAt: 2025-02-09 23:15:50 -0500 (Sun, 09 Feb 2025) EllapsedTime: 283.9 seconds RetCode: 0 Status: OK CheckDir: bnem.Rcheck Warnings: 0