Package: bnem Version: 1.15.0 Command: E:\biocbuild\bbs-3.21-bioc\R\bin\R.exe CMD INSTALL bnem StartedAt: 2025-02-03 16:17:57 -0500 (Mon, 03 Feb 2025) EndedAt: 2025-02-03 16:18:50 -0500 (Mon, 03 Feb 2025) EllapsedTime: 52.8 seconds RetCode: 0 Status: OK