Package: borealis Version: 1.11.0 Command: rm -rf borealis.buildbin-libdir && mkdir borealis.buildbin-libdir && /Users/biocbuild/BBS/utils/build-universal.sh borealis_1.11.0.tar.gz /Library/Frameworks/R.framework/Resources/bin/R borealis.buildbin-libdir StartedAt: 2025-02-12 22:12:51 -0500 (Wed, 12 Feb 2025) EndedAt: 2025-02-12 22:13:08 -0500 (Wed, 12 Feb 2025) EllapsedTime: 17.3 seconds RetCode: 0 Status: OK PackageFile: borealis_1.11.0.tgz PackageFileSize: 473.2 KiB