Package: borealis Version: 1.11.0 Command: /home/biocbuild/R/R/bin/R CMD INSTALL borealis StartedAt: 2025-01-29 20:20:39 -0000 (Wed, 29 Jan 2025) EndedAt: 2025-01-29 20:21:33 -0000 (Wed, 29 Jan 2025) EllapsedTime: 53.9 seconds RetCode: 0 Status: OK