Package: borealis Version: 1.11.0 Command: /home/biocbuild/bbs-3.21-bioc/R/bin/R CMD build --keep-empty-dirs --no-resave-data borealis StartedAt: 2025-02-09 16:27:35 -0500 (Sun, 09 Feb 2025) EndedAt: 2025-02-09 16:29:33 -0500 (Sun, 09 Feb 2025) EllapsedTime: 118.1 seconds RetCode: 0 Status: OK PackageFile: borealis_1.11.0.tar.gz PackageFileSize: 429.1 KiB