Package: borealis Version: 1.11.0 Command: /home/biocbuild/bbs-3.21-bioc/R/bin/R CMD check --install=check:borealis.install-out.txt --library=/home/biocbuild/bbs-3.21-bioc/R/site-library --timings borealis_1.11.0.tar.gz StartedAt: 2025-02-09 20:32:29 -0500 (Sun, 09 Feb 2025) EndedAt: 2025-02-09 20:38:53 -0500 (Sun, 09 Feb 2025) EllapsedTime: 383.6 seconds RetCode: 0 Status: OK CheckDir: borealis.Rcheck Warnings: 0