Package: borealis Version: 1.11.0 Command: chmod a+r borealis -R && E:\biocbuild\bbs-3.21-bioc\R\bin\R.exe CMD build --keep-empty-dirs --no-resave-data borealis StartedAt: 2025-02-12 17:36:56 -0500 (Wed, 12 Feb 2025) EndedAt: 2025-02-12 17:39:12 -0500 (Wed, 12 Feb 2025) EllapsedTime: 136.3 seconds RetCode: 1 Status: ERROR PackageFile: None PackageFileSize: NA