Package: borealis Version: 1.11.0 Command: E:\biocbuild\bbs-3.21-bioc\R\bin\R.exe CMD INSTALL borealis StartedAt: 2025-02-09 16:40:22 -0500 (Sun, 09 Feb 2025) EndedAt: 2025-02-09 16:41:11 -0500 (Sun, 09 Feb 2025) EllapsedTime: 48.9 seconds RetCode: 0 Status: OK