Package: brainflowprobes Version: 1.19.1 Maintainer: Amanda Price MaintainerEmail: amanda.joy.price at gmail.com git_url: https://git.bioconductor.org/packages/brainflowprobes git_branch: devel git_last_commit: f9da523 git_last_commit_date: 2024-08-21 14:30:39 -0400 (Wed, 21 Aug 2024)