Package: brainflowprobes Version: 1.19.1 Command: /home/biocbuild/bbs-3.21-bioc/R/bin/R CMD INSTALL brainflowprobes StartedAt: 2024-10-24 03:31:51 -0400 (Thu, 24 Oct 2024) EndedAt: 2024-10-24 03:31:51 -0400 (Thu, 24 Oct 2024) EllapsedTime: 0.5 seconds RetCode: 1 Status: ERROR