Package: branchpointer Version: 1.33.0 Command: /Library/Frameworks/R.framework/Resources/bin/R CMD check --install=check:branchpointer.install-out.txt --library=/Library/Frameworks/R.framework/Resources/library --no-vignettes --timings branchpointer_1.33.0.tar.gz StartedAt: 2025-02-12 18:20:57 -0500 (Wed, 12 Feb 2025) EndedAt: 2025-02-12 18:23:08 -0500 (Wed, 12 Feb 2025) EllapsedTime: 130.7 seconds RetCode: 0 Status: OK CheckDir: branchpointer.Rcheck Warnings: 0