Package: branchpointer Version: 1.33.0 Command: /home/biocbuild/bbs-3.21-bioc/R/bin/R CMD build --keep-empty-dirs --no-resave-data branchpointer StartedAt: 2025-02-09 16:28:04 -0500 (Sun, 09 Feb 2025) EndedAt: 2025-02-09 16:29:16 -0500 (Sun, 09 Feb 2025) EllapsedTime: 72.1 seconds RetCode: 1 Status: ERROR PackageFile: None PackageFileSize: NA