Package: branchpointer Version: 1.33.0 Command: /home/biocbuild/bbs-3.21-bioc/R/bin/R CMD check --install=check:branchpointer.install-out.txt --library=/home/biocbuild/bbs-3.21-bioc/R/site-library --timings branchpointer_1.33.0.tar.gz StartedAt: 2025-02-05 20:33:01 -0500 (Wed, 05 Feb 2025) EndedAt: 2025-02-05 20:38:46 -0500 (Wed, 05 Feb 2025) EllapsedTime: 344.5 seconds RetCode: 0 Status: OK CheckDir: branchpointer.Rcheck Warnings: 0