Package: branchpointer Version: 1.33.0 Command: E:\biocbuild\bbs-3.21-bioc\R\bin\R.exe CMD INSTALL branchpointer StartedAt: 2025-02-09 16:35:40 -0500 (Sun, 09 Feb 2025) EndedAt: 2025-02-09 16:36:53 -0500 (Sun, 09 Feb 2025) EllapsedTime: 73.3 seconds RetCode: 0 Status: OK