Package: breakpointR Version: 1.25.0 Maintainer: David Porubsky MaintainerEmail: david.porubsky at gmail.com git_url: https://git.bioconductor.org/packages/breakpointR git_branch: devel git_last_commit: da582c9 git_last_commit_date: 2024-10-29 10:31:34 -0500 (Tue, 29 Oct 2024)