Package: breakpointR Version: 1.25.0 Command: rm -rf breakpointR.buildbin-libdir && mkdir breakpointR.buildbin-libdir && /Users/biocbuild/BBS/utils/build-universal.sh breakpointR_1.25.0.tar.gz /Library/Frameworks/R.framework/Resources/bin/R breakpointR.buildbin-libdir StartedAt: 2025-02-03 22:43:41 -0500 (Mon, 03 Feb 2025) EndedAt: 2025-02-03 22:43:54 -0500 (Mon, 03 Feb 2025) EllapsedTime: 13.3 seconds RetCode: 0 Status: OK PackageFile: breakpointR_1.25.0.tgz PackageFileSize: 553.9 KiB