Package: breakpointR Version: 1.25.0 Command: /home/biocbuild/R/R/bin/R CMD build --keep-empty-dirs --no-resave-data breakpointR StartedAt: 2025-01-28 21:27:30 -0000 (Tue, 28 Jan 2025) EndedAt: 2025-01-28 21:29:02 -0000 (Tue, 28 Jan 2025) EllapsedTime: 92.0 seconds RetCode: 0 Status: OK PackageFile: breakpointR_1.25.0.tar.gz PackageFileSize: 806.2 KiB