Package: breakpointR Version: 1.25.0 Command: /Library/Frameworks/R.framework/Resources/bin/R CMD build --keep-empty-dirs --no-resave-data breakpointR StartedAt: 2025-02-09 16:07:20 -0500 (Sun, 09 Feb 2025) EndedAt: 2025-02-09 16:08:32 -0500 (Sun, 09 Feb 2025) EllapsedTime: 71.9 seconds RetCode: 0 Status: OK PackageFile: breakpointR_1.25.0.tar.gz PackageFileSize: 818.8 KiB