Package: breakpointR Version: 1.25.0 Command: /Library/Frameworks/R.framework/Resources/bin/R CMD check --install=check:breakpointR.install-out.txt --library=/Library/Frameworks/R.framework/Resources/library --no-vignettes --timings breakpointR_1.25.0.tar.gz StartedAt: 2025-02-09 19:28:09 -0500 (Sun, 09 Feb 2025) EndedAt: 2025-02-09 19:34:01 -0500 (Sun, 09 Feb 2025) EllapsedTime: 351.2 seconds RetCode: 0 Status: OK CheckDir: breakpointR.Rcheck Warnings: 0