Package: breakpointR Version: 1.25.0 Command: /Library/Frameworks/R.framework/Resources/bin/R CMD INSTALL breakpointR StartedAt: 2025-02-09 15:16:41 -0500 (Sun, 09 Feb 2025) EndedAt: 2025-02-09 15:17:18 -0500 (Sun, 09 Feb 2025) EllapsedTime: 37.3 seconds RetCode: 0 Status: OK