Package: breakpointR Version: 1.25.0 Command: /home/biocbuild/bbs-3.21-bioc/R/bin/R CMD build --keep-empty-dirs --no-resave-data breakpointR StartedAt: 2025-02-04 16:25:47 -0500 (Tue, 04 Feb 2025) EndedAt: 2025-02-04 16:26:54 -0500 (Tue, 04 Feb 2025) EllapsedTime: 67.1 seconds RetCode: 0 Status: OK PackageFile: breakpointR_1.25.0.tar.gz PackageFileSize: 818.7 KiB