Package: breakpointR Version: 1.25.0 Command: /home/biocbuild/bbs-3.21-bioc/R/bin/R CMD INSTALL breakpointR StartedAt: 2025-02-04 15:23:12 -0500 (Tue, 04 Feb 2025) EndedAt: 2025-02-04 15:23:40 -0500 (Tue, 04 Feb 2025) EllapsedTime: 28.2 seconds RetCode: 0 Status: OK