Package: breakpointR Version: 1.25.0 Command: chmod a+r breakpointR -R && E:\biocbuild\bbs-3.21-bioc\R\bin\R.exe CMD build --keep-empty-dirs --no-resave-data breakpointR StartedAt: 2025-02-09 17:35:14 -0500 (Sun, 09 Feb 2025) EndedAt: 2025-02-09 17:37:13 -0500 (Sun, 09 Feb 2025) EllapsedTime: 118.3 seconds RetCode: 0 Status: OK PackageFile: breakpointR_1.25.0.tar.gz PackageFileSize: 819.9 KiB