Package: breakpointR Version: 1.25.0 Command: E:\biocbuild\bbs-3.21-bioc\R\bin\R.exe CMD INSTALL breakpointR StartedAt: 2025-02-09 16:14:04 -0500 (Sun, 09 Feb 2025) EndedAt: 2025-02-09 16:14:44 -0500 (Sun, 09 Feb 2025) EllapsedTime: 40.0 seconds RetCode: 0 Status: OK