Package: broadSeq Version: 1.1.0 Command: /home/biocbuild/R/R/bin/R CMD INSTALL broadSeq StartedAt: 2025-01-29 20:32:59 -0000 (Wed, 29 Jan 2025) EndedAt: 2025-01-29 20:33:15 -0000 (Wed, 29 Jan 2025) EllapsedTime: 16.4 seconds RetCode: 1 Status: ERROR