Package: broadSeq Version: 1.1.0 Command: rm -rf broadSeq.buildbin-libdir && mkdir broadSeq.buildbin-libdir && /Users/biocbuild/BBS/utils/build-universal.sh broadSeq_1.1.0.tar.gz /Library/Frameworks/R.framework/Resources/bin/R broadSeq.buildbin-libdir StartedAt: 2025-02-10 00:44:36 -0500 (Mon, 10 Feb 2025) EndedAt: 2025-02-10 00:45:31 -0500 (Mon, 10 Feb 2025) EllapsedTime: 55.0 seconds RetCode: 0 Status: OK PackageFile: broadSeq_1.1.0.tgz PackageFileSize: 4.039 MiB