Package: broadSeq Version: 1.1.0 Command: /Library/Frameworks/R.framework/Resources/bin/R CMD check --install=check:broadSeq.install-out.txt --library=/Library/Frameworks/R.framework/Resources/library --no-vignettes --timings broadSeq_1.1.0.tar.gz StartedAt: 2025-02-09 19:29:39 -0500 (Sun, 09 Feb 2025) EndedAt: 2025-02-09 19:35:22 -0500 (Sun, 09 Feb 2025) EllapsedTime: 342.6 seconds RetCode: 0 Status: OK CheckDir: broadSeq.Rcheck Warnings: 0