Package: broadSeq Version: 1.1.0 Command: /home/biocbuild/bbs-3.21-bioc/R/bin/R CMD check --install=check:broadSeq.install-out.txt --library=/home/biocbuild/bbs-3.21-bioc/R/site-library --timings broadSeq_1.1.0.tar.gz StartedAt: 2025-02-09 20:34:46 -0500 (Sun, 09 Feb 2025) EndedAt: 2025-02-09 20:41:10 -0500 (Sun, 09 Feb 2025) EllapsedTime: 384.5 seconds RetCode: 0 Status: OK CheckDir: broadSeq.Rcheck Warnings: 0