Package: bsseq Version: 1.43.1 Maintainer: Kasper Daniel Hansen MaintainerEmail: kasperdanielhansen at gmail.com git_url: https://git.bioconductor.org/packages/bsseq git_branch: devel git_last_commit: 1cce9a0 git_last_commit_date: 2024-12-15 23:17:52 -0500 (Sun, 15 Dec 2024)