Package: bsseq Version: 1.43.1 Command: rm -rf bsseq.buildbin-libdir && mkdir bsseq.buildbin-libdir && /Users/biocbuild/BBS/utils/build-universal.sh bsseq_1.43.1.tar.gz /Library/Frameworks/R.framework/Resources/bin/R bsseq.buildbin-libdir StartedAt: 2025-02-09 22:08:01 -0500 (Sun, 09 Feb 2025) EndedAt: 2025-02-09 22:08:24 -0500 (Sun, 09 Feb 2025) EllapsedTime: 22.5 seconds RetCode: 0 Status: OK PackageFile: bsseq_1.43.1.tgz PackageFileSize: 3.678 MiB