Package: bsseq Version: 1.43.1 Command: /Library/Frameworks/R.framework/Resources/bin/R CMD INSTALL bsseq StartedAt: 2025-02-09 15:10:31 -0500 (Sun, 09 Feb 2025) EndedAt: 2025-02-09 15:10:56 -0500 (Sun, 09 Feb 2025) EllapsedTime: 25.2 seconds RetCode: 0 Status: OK