Package: bsseq Version: 1.43.1 Command: /home/biocbuild/R/R/bin/R CMD build --keep-empty-dirs --no-resave-data bsseq StartedAt: 2025-01-28 21:28:46 -0000 (Tue, 28 Jan 2025) EndedAt: 2025-01-28 21:32:17 -0000 (Tue, 28 Jan 2025) EllapsedTime: 211.1 seconds RetCode: 0 Status: OK PackageFile: bsseq_1.43.1.tar.gz PackageFileSize: 2.921 MiB