Package: bsseq Version: 1.43.1 Command: /home/biocbuild/R/R/bin/R CMD check --install=check:bsseq.install-out.txt --library=/home/biocbuild/R/R/site-library --no-vignettes --timings bsseq_1.43.1.tar.gz StartedAt: 2025-01-28 08:47:45 -0000 (Tue, 28 Jan 2025) EndedAt: 2025-01-28 08:57:25 -0000 (Tue, 28 Jan 2025) EllapsedTime: 579.5 seconds RetCode: 0 Status: OK CheckDir: bsseq.Rcheck Warnings: 0