Package: bsseq Version: 1.43.1 Command: /home/biocbuild/R/R/bin/R CMD INSTALL bsseq StartedAt: 2025-01-29 19:54:43 -0000 (Wed, 29 Jan 2025) EndedAt: 2025-01-29 19:56:13 -0000 (Wed, 29 Jan 2025) EllapsedTime: 90.6 seconds RetCode: 0 Status: OK