Package: bsseq Version: 1.43.1 Command: rm -rf bsseq.buildbin-libdir && mkdir bsseq.buildbin-libdir && /Users/biocbuild/BBS/utils/build-universal.sh bsseq_1.43.1.tar.gz /Library/Frameworks/R.framework/Resources/bin/R bsseq.buildbin-libdir StartedAt: 2025-02-13 00:28:00 -0500 (Thu, 13 Feb 2025) EndedAt: 2025-02-13 00:29:13 -0500 (Thu, 13 Feb 2025) EllapsedTime: 72.5 seconds RetCode: 0 Status: OK PackageFile: bsseq_1.43.1.tgz PackageFileSize: 3.677 MiB