Package: bsseq Version: 1.43.1 Command: /Library/Frameworks/R.framework/Resources/bin/R CMD INSTALL bsseq StartedAt: 2025-02-12 15:20:13 -0500 (Wed, 12 Feb 2025) EndedAt: 2025-02-12 15:21:41 -0500 (Wed, 12 Feb 2025) EllapsedTime: 87.4 seconds RetCode: 0 Status: OK