Package: bsseq Version: 1.43.1 Command: /home/biocbuild/bbs-3.21-bioc/R/bin/R CMD build --keep-empty-dirs --no-resave-data bsseq StartedAt: 2025-02-09 16:28:52 -0500 (Sun, 09 Feb 2025) EndedAt: 2025-02-09 16:31:32 -0500 (Sun, 09 Feb 2025) EllapsedTime: 160.2 seconds RetCode: 0 Status: OK PackageFile: bsseq_1.43.1.tar.gz PackageFileSize: 2.877 MiB