Package: bsseq Version: 1.43.1 Command: /home/biocbuild/bbs-3.21-bioc/R/bin/R CMD check --install=check:bsseq.install-out.txt --library=/home/biocbuild/bbs-3.21-bioc/R/site-library --timings bsseq_1.43.1.tar.gz StartedAt: 2025-02-09 20:35:12 -0500 (Sun, 09 Feb 2025) EndedAt: 2025-02-09 20:44:26 -0500 (Sun, 09 Feb 2025) EllapsedTime: 554.7 seconds RetCode: 0 Status: OK CheckDir: bsseq.Rcheck Warnings: 0