Package: bsseq Version: 1.43.1 Command: /home/biocbuild/bbs-3.21-bioc/R/bin/R CMD INSTALL bsseq StartedAt: 2025-02-09 15:34:32 -0500 (Sun, 09 Feb 2025) EndedAt: 2025-02-09 15:35:36 -0500 (Sun, 09 Feb 2025) EllapsedTime: 64.0 seconds RetCode: 0 Status: OK