Package: cBioPortalData Version: 2.19.12 Maintainer: Marcel Ramos MaintainerEmail: marcel.ramos at sph.cuny.edu git_url: https://git.bioconductor.org/packages/cBioPortalData git_branch: devel git_last_commit: db6ea51 git_last_commit_date: 2025-02-07 16:06:00 -0500 (Fri, 07 Feb 2025)