Package: cBioPortalData Version: 2.19.12 Command: /Library/Frameworks/R.framework/Resources/bin/R CMD build --keep-empty-dirs --no-resave-data cBioPortalData StartedAt: 2025-02-09 15:48:23 -0500 (Sun, 09 Feb 2025) EndedAt: 2025-02-09 15:49:21 -0500 (Sun, 09 Feb 2025) EllapsedTime: 57.6 seconds RetCode: 1 Status: ERROR PackageFile: None PackageFileSize: NA