Package: cBioPortalData Version: 2.19.9 Command: /home/biocbuild/R/R/bin/R CMD build --keep-empty-dirs --no-resave-data cBioPortalData StartedAt: 2025-01-28 21:36:01 -0000 (Tue, 28 Jan 2025) EndedAt: 2025-01-28 21:41:08 -0000 (Tue, 28 Jan 2025) EllapsedTime: 307.1 seconds RetCode: 0 Status: OK PackageFile: cBioPortalData_2.19.9.tar.gz PackageFileSize: 1.051 MiB