Package: cBioPortalData Version: 2.19.11 Command: rm -rf cBioPortalData.buildbin-libdir && mkdir cBioPortalData.buildbin-libdir && /Users/biocbuild/BBS/utils/build-universal.sh cBioPortalData_2.19.11.tar.gz /Library/Frameworks/R.framework/Resources/bin/R cBioPortalData.buildbin-libdir StartedAt: 2025-02-06 00:22:19 -0500 (Thu, 06 Feb 2025) EndedAt: 2025-02-06 00:23:18 -0500 (Thu, 06 Feb 2025) EllapsedTime: 59.0 seconds RetCode: 0 Status: OK PackageFile: cBioPortalData_2.19.11.tgz PackageFileSize: 1.09 MiB