Package: cBioPortalData Version: 2.19.11 Command: /Library/Frameworks/R.framework/Resources/bin/R CMD check --install=check:cBioPortalData.install-out.txt --library=/Library/Frameworks/R.framework/Resources/library --no-vignettes --timings cBioPortalData_2.19.11.tar.gz StartedAt: 2025-02-05 19:24:00 -0500 (Wed, 05 Feb 2025) EndedAt: 2025-02-05 19:30:02 -0500 (Wed, 05 Feb 2025) EllapsedTime: 361.4 seconds RetCode: 0 Status: OK CheckDir: cBioPortalData.Rcheck Warnings: 0