Package: cBioPortalData Version: 2.19.11 Command: /home/biocbuild/bbs-3.21-bioc/R/bin/R CMD check --install=check:cBioPortalData.install-out.txt --library=/home/biocbuild/bbs-3.21-bioc/R/site-library --timings cBioPortalData_2.19.11.tar.gz StartedAt: 2025-02-05 20:41:49 -0500 (Wed, 05 Feb 2025) EndedAt: 2025-02-05 20:49:45 -0500 (Wed, 05 Feb 2025) EllapsedTime: 475.6 seconds RetCode: 0 Status: OK CheckDir: cBioPortalData.Rcheck Warnings: 0