Package: cBioPortalData Version: 2.19.11 Command: /home/biocbuild/bbs-3.21-bioc/R/bin/R CMD INSTALL cBioPortalData StartedAt: 2025-02-04 15:41:17 -0500 (Tue, 04 Feb 2025) EndedAt: 2025-02-04 15:42:00 -0500 (Tue, 04 Feb 2025) EllapsedTime: 43.7 seconds RetCode: 0 Status: OK