Package: cBioPortalData Version: 2.19.11 Command: rm -rf cBioPortalData.buildbin-libdir && mkdir cBioPortalData.buildbin-libdir && E:\biocbuild\bbs-3.21-bioc\R\bin\R.exe CMD INSTALL --build --library=cBioPortalData.buildbin-libdir cBioPortalData_2.19.11.tar.gz StartedAt: 2025-02-05 07:35:42 -0500 (Wed, 05 Feb 2025) EndedAt: 2025-02-05 07:38:08 -0500 (Wed, 05 Feb 2025) EllapsedTime: 145.7 seconds RetCode: 0 Status: OK PackageFile: cBioPortalData_2.19.11.zip PackageFileSize: 1.047 MiB