Package: cBioPortalData Version: 2.19.11 Command: E:\biocbuild\bbs-3.21-bioc\R\bin\R.exe CMD check --no-multiarch --install=check:cBioPortalData.install-out.txt --library=E:\biocbuild\bbs-3.21-bioc\R\library --no-vignettes --timings cBioPortalData_2.19.11.tar.gz StartedAt: 2025-02-05 23:54:43 -0500 (Wed, 05 Feb 2025) EndedAt: 2025-02-06 00:01:14 -0500 (Thu, 06 Feb 2025) EllapsedTime: 390.9 seconds RetCode: 0 Status: OK CheckDir: cBioPortalData.Rcheck Warnings: 0