Package: cBioPortalData Version: 2.19.12 Command: E:\biocbuild\bbs-3.21-bioc\R\bin\R.exe CMD INSTALL cBioPortalData StartedAt: 2025-02-09 16:32:11 -0500 (Sun, 09 Feb 2025) EndedAt: 2025-02-09 16:33:13 -0500 (Sun, 09 Feb 2025) EllapsedTime: 61.7 seconds RetCode: 0 Status: OK